BEGIN:VCALENDAR
VERSION:2.0
PRODID:-//ONE Northside - ECPv6.15.18//NONSGML v1.0//EN
CALSCALE:GREGORIAN
METHOD:PUBLISH
X-WR-CALNAME:ONE Northside
X-ORIGINAL-URL:https://www.onenorthside.org
X-WR-CALDESC:Events for ONE Northside
REFRESH-INTERVAL;VALUE=DURATION:PT1H
X-Robots-Tag:noindex
X-PUBLISHED-TTL:PT1H
BEGIN:VTIMEZONE
TZID:America/Chicago
BEGIN:DAYLIGHT
TZOFFSETFROM:-0600
TZOFFSETTO:-0500
TZNAME:CDT
DTSTART:20250309T080000
END:DAYLIGHT
BEGIN:STANDARD
TZOFFSETFROM:-0500
TZOFFSETTO:-0600
TZNAME:CST
DTSTART:20251102T070000
END:STANDARD
BEGIN:DAYLIGHT
TZOFFSETFROM:-0600
TZOFFSETTO:-0500
TZNAME:CDT
DTSTART:20260308T080000
END:DAYLIGHT
BEGIN:STANDARD
TZOFFSETFROM:-0500
TZOFFSETTO:-0600
TZNAME:CST
DTSTART:20261101T070000
END:STANDARD
BEGIN:DAYLIGHT
TZOFFSETFROM:-0600
TZOFFSETTO:-0500
TZNAME:CDT
DTSTART:20270314T080000
END:DAYLIGHT
BEGIN:STANDARD
TZOFFSETFROM:-0500
TZOFFSETTO:-0600
TZNAME:CST
DTSTART:20271107T070000
END:STANDARD
END:VTIMEZONE
BEGIN:VEVENT
DTSTART;TZID=America/Chicago:20260425T110000
DTEND;TZID=America/Chicago:20260425T140000
DTSTAMP:20260423T225148
CREATED:20260415T000324Z
LAST-MODIFIED:20260415T000324Z
UID:5813-1777114800-1777125600@www.onenorthside.org
SUMMARY:ICA Earth Day
DESCRIPTION:Join the Institute of Cultural Affairs for their 4th Annual Earth Day Celebration! \nStop by a lively\, community-centered celebration designed to connect people\, empower\, and inspire action.\nTogether with local organizations and neighbors\, we’ll explore practical ways to promote sustainability and care for our planet\, all while building stronger community ties. \nThis year’s celebration will feature fun and engaging kids’ activities\,\na performance by DJ Kali\,\na guided meditation offered by the Brahma Kumaris meditation center\,\nand a chance to meet like-minded people who are passionate about\nmaking a difference across our Chicagoland region. \nWe are proud to be joined by Reduce Waste Chicago\, which is running a\nmini-collection for some of those hard-to-recycle items! \nThe ICA is a member of ONE Northside and we are proud to co-sponsor this event. \nSee you there!
URL:https://www.onenorthside.org/event/ica-earth-day/
LOCATION:Buttercup Park\, 4901 N Sheridan Rd\, Chicago\, IL\, 60640\, United States
ATTACH;FMTTYPE=image/png:https://www.onenorthside.org/wp-content/uploads/2026/04/ica-earth-day.png
END:VEVENT
BEGIN:VEVENT
DTSTART;TZID=America/Chicago:20260427T163000
DTEND;TZID=America/Chicago:20260427T183000
DTSTAMP:20260423T225148
CREATED:20260402T004854Z
LAST-MODIFIED:20260414T235313Z
UID:5708-1777307400-1777314600@www.onenorthside.org
SUMMARY:April Youth Mixer: May Day Art Build
DESCRIPTION:As part of our organization-wide Spring Blitz campaign to exert costs\non the billionaires and fascist government eroding the safety of our community\,\njoin fellow Northside youth (ages 14-24)\nin an art build for our youth-led May Day action.\n\nMonday\, April 27th from 4:30 to 6:30pm\nat the ONE Northside office:\n4750 N Sheridan Rd\, Suite 200.
URL:https://www.onenorthside.org/event/april-youth-mixer-may-day-art-build/
LOCATION:IL
ATTACH;FMTTYPE=image/png:https://www.onenorthside.org/wp-content/uploads/2026/04/April-Art-Build.png
END:VEVENT
BEGIN:VEVENT
DTSTART;TZID=America/Chicago:20260501T100000
DTEND;TZID=America/Chicago:20260501T170000
DTSTAMP:20260423T225148
CREATED:20260217T212546Z
LAST-MODIFIED:20260302T200620Z
UID:5600-1777629600-1777654800@www.onenorthside.org
SUMMARY:May Day March
DESCRIPTION:We are the many. \nThey are the few. \nAnd we will not be silent. \nWe will join a HUGE nationwide demonstration of solidarity and action against the billionaires\, big tech\, and big corporations waging war on working people.\n \nMore info to come.
URL:https://www.onenorthside.org/event/may-day-march/
LOCATION:IL
ATTACH;FMTTYPE=image/png:https://www.onenorthside.org/wp-content/uploads/2026/02/may-day.png
END:VEVENT
END:VCALENDAR